BEGIN:VCALENDAR
PRODID:-//eluceo/ical//2.0/EN
VERSION:2.0
CALSCALE:GREGORIAN
BEGIN:VEVENT
UID:ca6f1f1268dd1cfb6814377ecf15d88b
DTSTAMP:20260422T062338Z
SUMMARY:Selichot Service at TAY
DESCRIPTION:Jewish Federation of New Hampshire\nCommunity Calendar\nhttps:/
 /jewishnh.org/community-calendar/selichot-service-at-tay-1560684117\n\nSel
 ichot Service at Temple Adath Yeshurun
DTSTART;TZID=America/New_York:20190921T190000
DTEND;TZID=America/New_York:20190921T201500
END:VEVENT
END:VCALENDAR
