BEGIN:VCALENDAR
PRODID:-//eluceo/ical//2.0/EN
VERSION:2.0
CALSCALE:GREGORIAN
BEGIN:VEVENT
UID:d7ad4109b20270de21d90061e87ab683
DTSTAMP:20260421T213820Z
SUMMARY:Selichot Services - TAY and TIM
DESCRIPTION:Jewish Federation of New Hampshire\nCommunity Calendar\nhttps:/
 /jewishnh.org/community-calendar/selichot-services-1692025499\n\nJoin Temp
 le Adath Yeshurun and Temple Israel\, Manchester as together we pray and s
 ing for Selichot.
DTSTART;TZID=America/New_York:20230909T203000
DTEND;TZID=America/New_York:20230909T220000
END:VEVENT
END:VCALENDAR
