BEGIN:VCALENDAR
PRODID:-//eluceo/ical//2.0/EN
VERSION:2.0
CALSCALE:GREGORIAN
BEGIN:VEVENT
UID:db9ad37bb573c70c5ecb2d55e89b12a2
DTSTAMP:20260423T031552Z
SUMMARY:Seniors Forever Young Chanukah Party
DESCRIPTION:Jewish Federation of New Hampshire\nCommunity Calendar\nhttps:/
 /jewishnh.org/community-calendar/seniors-forever-young-chanukah-party\n\nC
 elebrate Chanukah at the Seniors Forever Young Annual Chanukah Party!\n\nT
 his year we'll create Chanukah art with Shlicha Avia Sagron and enjoy a d
 elicious lunch of soup. sandwiches and latkes!\n\n$10/person. Please RSVP 
 by December 5th by calling the JFNH office at 603-627-7679 to pay by credi
 t card or mailing payment to JFNH Attn: SFY 273 South River Rd. #5 Bedford
 \, NH 03110
DTSTART;TZID=America/New_York:20191212T120000
DTEND;TZID=America/New_York:20191212T140000
END:VEVENT
END:VCALENDAR
