BEGIN:VCALENDAR
PRODID:-//eluceo/ical//2.0/EN
VERSION:2.0
CALSCALE:GREGORIAN
BEGIN:VEVENT
UID:ae3d360f92bdf27e3ee53bfec4ec6f00
DTSTAMP:20260422T233651Z
SUMMARY:SFY: Currier Museum
DESCRIPTION:Jewish Federation of New Hampshire\nCommunity Calendar\nhttps:/
 /jewishnh.org/community-calendar/seniors-forever-young-currier-museum\n\nS
 eniors Forever Young Field Trip to the Currier Museum\n\nJoin us for an i
 n person tour of the Currier Museum\, then lunch in the Winter Garden Caf
 é.\n\nPlease call the office at 603-627-7679\, mail your registration to 
 Jewish Federation of New Hampshire\, 273 South River Road\, Unit 5\, Bedfo
 rd\, NH 03110\; or email Dinah Berch to register for this event.\n\n$18
 /person (non refundable)\; cost of lunch not included. Please register and
  pay by March 31.\n\nTransportation not provided\; please meet at the ...
DTSTART;TZID=America/New_York:20220407T103000
DTEND;TZID=America/New_York:20220407T123000
END:VEVENT
END:VCALENDAR
