BEGIN:VCALENDAR
PRODID:-//eluceo/ical//2.0/EN
VERSION:2.0
CALSCALE:GREGORIAN
BEGIN:VEVENT
UID:7cb62ab77e729c1bae4ba2951d70b096
DTSTAMP:20260422T160055Z
SUMMARY:Seniors Forever Young Lunch and Learn
DESCRIPTION:Jewish Federation of New Hampshire\nCommunity Calendar\nhttps:/
 /jewishnh.org/community-calendar/seniors-forever-young-lunch-and-learn\n\n
 New Hampshire Shlicha Avia Sagron will present her Israeli Story.\n\nPizza
  and Salad lunch will be served.\n\n$5/person. Please register by February
  6th by calling the JFNH office at 603-627-7679 to pay by credit card or m
 ail payment to JFNH Attn: SFY 273 South River Rd. #5 Bedford\, NH 03110
DTSTART;TZID=America/New_York:20200213T120000
DTEND;TZID=America/New_York:20200213T140000
END:VEVENT
END:VCALENDAR
