BEGIN:VCALENDAR
PRODID:-//eluceo/ical//2.0/EN
VERSION:2.0
CALSCALE:GREGORIAN
BEGIN:VEVENT
UID:8e31964e55a144abad050dc41060d641
DTSTAMP:20260422T124137Z
SUMMARY:Seniors Forever Young Lunch and Learn:Understanding Alzheimers and 
 Dementia
DESCRIPTION:Jewish Federation of New Hampshire\nCommunity Calendar\nhttps:/
 /jewishnh.org/community-calendar/seniors-forever-young-lunch-and-learnunde
 rstanding-alzheimers-and-dementia\n\nJoin Seniors Forever Young at the new
  JFNH Community Room for Lunch and Learn presented by the Alzheimers Assoc
 .\n\nPizza and Salad Lunch\n\n$5/person (non refundable) - please reserve 
 your spot by November 7th by calling the JFNH office at 603-627-7679 or ma
 iling payment to the JFNH Office Attn: SFY 273 S. River Rd. Bedford\, NH 0
 3110
DTSTART;TZID=America/New_York:20191113T120000
DTEND;TZID=America/New_York:20191113T150000
END:VEVENT
END:VCALENDAR
