BEGIN:VCALENDAR
PRODID:-//eluceo/ical//2.0/EN
VERSION:2.0
CALSCALE:GREGORIAN
BEGIN:VEVENT
UID:68e637ba1f07ac0f6f7bb7e6ff73c949
DTSTAMP:20260425T022031Z
SUMMARY:SFY: Lunch & Learn "Lost Mural"
DESCRIPTION:Jewish Federation of New Hampshire\nCommunity Calendar\nhttps:/
 /jewishnh.org/community-calendar/seniors-forever-young-lunch-learn-lost-mu
 ral\n\nSeniors Forever Young presents "The Lost Mural"\n\nJoin us for Lunc
 h & Learn featuring Burlington\, Vermont's Lost Mural. Guest lecturer Aaro
 n Goldberg will be joining us via Zoom.\n\nThis event will be in person at
  the JFNH office in Bedford. Masks are encouraged. Zoom option is availabl
 e.\n\nPlease call the office at 603-627-7679\, mail your registration to J
 ewish Federation of New Hampshire\, 273 South River Road\, Unit 5\, Bedfor
 d\, NH 03110\; or email Dinah Berch to register for this event.\n\n$1..
 .
DTSTART;TZID=America/New_York:20220310T110000
DTEND;TZID=America/New_York:20220310T130000
END:VEVENT
END:VCALENDAR
