BEGIN:VCALENDAR
PRODID:-//eluceo/ical//2.0/EN
VERSION:2.0
CALSCALE:GREGORIAN
BEGIN:VEVENT
UID:032d59ae2f65809bbaf85b366711c84a
DTSTAMP:20260422T111056Z
SUMMARY:Seniors Forever Young: Lunch & Learn "My Israeli Story"
DESCRIPTION:Jewish Federation of New Hampshire\nCommunity Calendar\nhttps:/
 /jewishnh.org/community-calendar/seniors-forever-young-lunch-learn-my-isra
 eli-story\n\n"My Israeli Story"\n\nPresented by Shaliach Ra'anan de Haas\n
 \n11am JFNH Community Room\n\nPizza and salad lunch.\n\n$5/person (non ref
 undable) - pay by December 2
DTSTART;TZID=America/New_York:20211209T110000
DTEND;TZID=America/New_York:20211209T120000
END:VEVENT
END:VCALENDAR
