BEGIN:VCALENDAR
PRODID:-//eluceo/ical//2.0/EN
VERSION:2.0
CALSCALE:GREGORIAN
BEGIN:VEVENT
UID:371f45298b7a24301fac8df5d74a24ed
DTSTAMP:20260424T041843Z
SUMMARY:SFY Movie Day - Gentleman's Agreement
DESCRIPTION:Jewish Federation of New Hampshire\nCommunity Calendar\nhttps:/
 /jewishnh.org/community-calendar/seniors-forever-young-movie-gentlemans-ag
 reement\n\nJoin the Seniors Forever Young for MOVIE DAY at JFNH! \n\n"Gent
 leman's Agreement" (1947) tells the story of a reporter who is assigned to
  write a series of articles on anti-Semitism pretends to be Jewish in orde
 r to experience the degree of racism that exists. It doesn't take long for
  him to discover the true depths of bigotry and hatred.\n\nStarring: Greg
 ory Peck\, Dorothy McGuire\, John Garfield\, Celeste Holm\, Anne Revere\n\
 n1pm JFNH Community Room\nNo Cost | Popcorn will be provided. Regist...
DTSTART;TZID=America/New_York:20220616T130000
DTEND;TZID=America/New_York:20220616T150000
END:VEVENT
END:VCALENDAR
