BEGIN:VCALENDAR
PRODID:-//eluceo/ical//2.0/EN
VERSION:2.0
CALSCALE:GREGORIAN
BEGIN:VEVENT
UID:357dd7a1edad2e7405bbc8e1f5ea81e5
DTSTAMP:20260422T070922Z
SUMMARY:Seniors Forever Young Movie: "On the Basis of Sex"
DESCRIPTION:Jewish Federation of New Hampshire\nCommunity Calendar\nhttps:/
 /jewishnh.org/community-calendar/seniors-forever-young-movie-on-the-basis-
 of-sex\n\nSeniors Forever Young presents:\n\n"On the Basis of Sex"\n\nBiog
 raphical legal drama film based on the life and early cases of Supreme Cou
 rt Justice Ruth Bader Ginsburg.\n\n1pm JFNH Community Room\n\nNo Cost | Po
 pcorn will be provided. Register by calling 603-627-7679. 
DTSTART;TZID=America/New_York:20220106T130000
DTEND;TZID=America/New_York:20220106T150000
END:VEVENT
END:VCALENDAR
