BEGIN:VCALENDAR
PRODID:-//eluceo/ical//2.0/EN
VERSION:2.0
CALSCALE:GREGORIAN
BEGIN:VEVENT
UID:a82a715e5e11cf13da2fa327233f4701
DTSTAMP:20260422T061257Z
SUMMARY:Seniors Forever Young Popcorn and a Movie
DESCRIPTION:Jewish Federation of New Hampshire\nCommunity Calendar\nhttps:/
 /jewishnh.org/community-calendar/seniors-forever-young-popcorn-and-a-movie
 \n\nJoin us for a showing of Judy (2019) PG-13\n\nThe showbiz legend\, Jud
 y Garland arrives in London to perform her final concerts. After working f
 or 45 of her 47 years\, she is haunted by memories of  a childhood lost t
 o Hollywood and longs to be back home with her kids.\n\nPopcorn and other 
 movie theatre treats will be served.\n\n$3/person. Please register by Janu
 ary 2 by calling the JFNH office at 603-627-7679 to pay by credit card or 
 mail payment to JFNH - Attn: SFY 273 South River Rd. #5\, Be...
DTSTART;TZID=America/New_York:20200109T133000
DTEND;TZID=America/New_York:20200109T160000
END:VEVENT
END:VCALENDAR
