BEGIN:VCALENDAR
PRODID:-//eluceo/ical//2.0/EN
VERSION:2.0
CALSCALE:GREGORIAN
BEGIN:VEVENT
UID:4d1c3098ab41734b89ca4efacb1456b4
DTSTAMP:20260422T195720Z
SUMMARY:Seniors Forever Young - Shavuot Luncheon 2022
DESCRIPTION:Jewish Federation of New Hampshire\nCommunity Calendar\nhttps:/
 /jewishnh.org/community-calendar/seniors-forever-young-shavuot-lunch-2022\
 n\nSeniors Forever Young invites you to join us for a Shavuot Dairy lunch 
 including blintzes and cheese cake! we will provide a fun craft project in
  celebration of Shavuot as well. $18/person (non refundable) - pay by Ma
 y 20. \n\nTo register please call 603-627-7679 to pay by credit card or m
 ail payment to:  JFNH\, Attention: SFY\, 273 S. River Rd. #5\, Bedford\
 , NH 03110.
DTSTART;TZID=America/New_York:20220601T113000
DTEND;TZID=America/New_York:20220601T133000
END:VEVENT
END:VCALENDAR
