BEGIN:VCALENDAR
PRODID:-//eluceo/ical//2.0/EN
VERSION:2.0
CALSCALE:GREGORIAN
BEGIN:VEVENT
UID:3c1402e9d11f310787f0ced59b28c9a7
DTSTAMP:20260422T120024Z
SUMMARY:Seniors Forever Young trip to Isabella Steward Gardner Museum
DESCRIPTION:Jewish Federation of New Hampshire\nCommunity Calendar\nhttps:/
 /jewishnh.org/community-calendar/seniors-forever-young-trip-to-isabella-st
 eward-gardner-museum\n\nSeniors Forever Young will be going to the Isabell
 a Stewart Gardner Museum in Boston.\n\nParticipants will meet the van at T
 emple Adath Yeshurun in Manchester at 9:45 AM and our group tour begins at
  the museum at 11:30 AM.\n\nLunch at the museum cafe (not included in the 
 cost of the trip)\n\n$20/person - please pay by June 20th\n\nTo register b
 y credit card please call the JFNH office at 603-627-7679 or mail payment 
 to: JFNH attention: SFY 66 Hanover St. Suite 300 Manchester\, NH 03101\n\n
  
DTSTART;TZID=America/New_York:20190627T094500
DTEND;TZID=America/New_York:20190627T150000
END:VEVENT
END:VCALENDAR
