BEGIN:VCALENDAR
PRODID:-//eluceo/ical//2.0/EN
VERSION:2.0
CALSCALE:GREGORIAN
BEGIN:VEVENT
UID:bfb90a4d7a79f58717928d28798807a5
DTSTAMP:20260422T124020Z
SUMMARY:Seniors Forever Young Trip to  Ragtime at Interlakes Summer Theatre
DESCRIPTION:Jewish Federation of New Hampshire\nCommunity Calendar\nhttps:/
 /jewishnh.org/community-calendar/seniors-forever-young-trip-to-ragtime-at-
 interlakes-summer-theatre\n\nSeniors Forever Young will be going to see Ra
 gtime at the Interlakes Summer Theatre in Meredith\n\nParticipants will me
 et the van at Temple Adath Yeshurun in Manchester at 12 PM\, the show begi
 ns at 2 PM\n\nDinner at Giuseppe's after the show. (not included in the co
 st of the trip)\n\n$29/person - please pay by July 8th \n\nTo register by
  credit card please call the JFNH office at 603-627-7679 or mail payment t
 o: JFNH attention: SFY 66 Hanover St. Suite 300 Manchester\, NH 03101
DTSTART;TZID=America/New_York:20190718T120000
DTEND;TZID=America/New_York:20190718T190000
END:VEVENT
END:VCALENDAR
