BEGIN:VCALENDAR
PRODID:-//eluceo/ical//2.0/EN
VERSION:2.0
CALSCALE:GREGORIAN
BEGIN:VEVENT
UID:602a8c036021990f54d58c6e9830135e
DTSTAMP:20260422T230741Z
SUMMARY:Seniors Forever Young trip to see Evita
DESCRIPTION:Jewish Federation of New Hampshire\nCommunity Calendar\nhttps:/
 /jewishnh.org/community-calendar/seniors-forever-young-trip-to-see-evita\n
 \n12:15 PM\, Bus leaves from TAY\, 2 PM\, the show begins\n\nWe will be go
 ing out to eat after the show. Cost of this event is $30 plus the cost of 
 dinner. Reservations and payments were due by June 28. More information co
 ntact Saundra Wexler at 718-8898 or Elaine Rabinovitz 204-5736. Funding in
  part by The Jewish Federation of New Hampshire Foundation\, The Ben and Z
 elma Dorson Fund\, The Maurice Foster Fund\, The Saul Sidore Fund\, The Pa
 ul and Fran Gordon Family Fund\, and The Singer Trust Fund.
DTSTART;TZID=America/New_York:20180712T121500
DTEND;TZID=America/New_York:20180712T170000
END:VEVENT
END:VCALENDAR
