BEGIN:VCALENDAR
PRODID:-//eluceo/ical//2.0/EN
VERSION:2.0
CALSCALE:GREGORIAN
BEGIN:VEVENT
UID:ee1b7a2586935cf22fb94683ac487893
DTSTAMP:20260423T155720Z
SUMMARY:Seniors Forever Young  Squam Lake Cruise
DESCRIPTION:Jewish Federation of New Hampshire\nCommunity Calendar\nhttps:/
 /jewishnh.org/community-calendar/seniors-forever-young-trip-to-squam-lake-
 cruise\n\nSeniors Forever Young will be taking a cruise around Squam Lake.
 \n\nParticipants will meet the van at Temple Adath Yeshurun in Manchester 
 at 9:30 AM\, the cruise departs at 11:30 AM\n\nLunch at Common Man after t
 he cruise. (not included in the cost of the trip)\n\n$24/person - please p
 ay by July 29th \n\nTo register by credit card please call the JFNH offic
 e at 603-627-7679 or mail payment to: JFNH attention: SFY 66 Hanover St. S
 uite 300 Manchester\, NH 03101
DTSTART;TZID=America/New_York:20190808T093000
DTEND;TZID=America/New_York:20190808T150000
END:VEVENT
END:VCALENDAR
