BEGIN:VCALENDAR
PRODID:-//eluceo/ical//2.0/EN
VERSION:2.0
CALSCALE:GREGORIAN
BEGIN:VEVENT
UID:9282e6e32f369be6ebf014931eab858d
DTSTAMP:20260423T222956Z
SUMMARY:Seniors Forever Young Virtual Speaker Series
DESCRIPTION:Jewish Federation of New Hampshire\nCommunity Calendar\nhttps:/
 /jewishnh.org/community-calendar/seniors-forever-young-virtual-speaker-ser
 ies\n\nJoin Seniors Forever Young for their fall Virtual Speaker Series. I
 n October we will welcome historian Maddie Beihl from Strawbery Banke. Ma
 ddie will share the genealogical history of the Shapiro family\, show i
 mages and primary source documents.  \n\nThe Shapiro House at Strawbery 
 Banke was the home from 1909 to 1928 of Abraham and Sarah Shapiro\, Russia
 n Jewish immigrants\, and their American-born daughter Mollie. Interpreted
  to 1919\, the home shows how the Shapiros sought to balance the...
DTSTART;TZID=America/New_York:20201007T000000
DTEND;TZID=America/New_York:20201007T235959
END:VEVENT
END:VCALENDAR
