BEGIN:VCALENDAR
PRODID:-//eluceo/ical//2.0/EN
VERSION:2.0
CALSCALE:GREGORIAN
BEGIN:VEVENT
UID:8489de0d283cdbe4f50d0601168c2c09
DTSTAMP:20260423T223219Z
SUMMARY:Seniors Forever Young Virtual Speaker Series
DESCRIPTION:Jewish Federation of New Hampshire\nCommunity Calendar\nhttps:/
 /jewishnh.org/community-calendar/seniors-forever-young-virtual-speaker-ser
 ies-November\n\nJoin Seniors Forever Young for their fall Virtual Speaker 
 Series. In November we will welcome New Hampshire Shlicha Avia Sagron who 
 will be speaking about Leading Woman of Israel.\n\nThis program is 45 - 60
  minutes and includes an opportunity for Q&A.\n\nPre-registration is requi
 red by calling 603-627-7679\, emailing info@jewishnh.org or using this lin
 k https://forms.gle/PNJbgY9HutTvCMHLA. All programs through our Virtual Sp
 eaker Series will be held on Zoom and the link will be given once your...
DTSTART;TZID=America/New_York:20201112T113000
DTEND;TZID=America/New_York:20201112T133000
END:VEVENT
END:VCALENDAR
