BEGIN:VCALENDAR
PRODID:-//eluceo/ical//2.0/EN
VERSION:2.0
CALSCALE:GREGORIAN
BEGIN:VEVENT
UID:5160478f368ef4af432037eb28c7f1ce
DTSTAMP:20260423T021511Z
SUMMARY:Sephardic Shabbat Unplugged at Temple Beth Abraham
DESCRIPTION:Jewish Federation of New Hampshire\nCommunity Calendar\nhttps:/
 /jewishnh.org/community-calendar/sephardic-shabbat-unplugged-at-temple-bet
 h-abraham-1678983048\n\nCongregation Ahavat Olam of North Andover\, MA joi
 ns us for a “Sephardic Shabbat Unplugged – A Journey into the Music of
  the Sephardic Tradition.”\n\nThe evening will begin with Jewish ethnic 
 foods from Sephardic traditions. Shabbat services will feature the Ahavat 
 Olam ensemble led by founding Rabbi/Cantor Idan Irelander.\n\n5:30 pm Appe
 tizers\n6:00 pm Shabbat Dinner\n7:30 pm Kabbalat Shabbat Evening Service\n
 Followed by Oneg Shabbat dessert and refreshments\n\n$20 adult / $15 child
 \n\n...
DTSTART;TZID=America/New_York:20230421T173000
DTEND;TZID=America/New_York:20230421T210000
END:VEVENT
END:VCALENDAR
