BEGIN:VCALENDAR
PRODID:-//eluceo/ical//2.0/EN
VERSION:2.0
CALSCALE:GREGORIAN
BEGIN:VEVENT
UID:926b77ddd239baaa8aee9d31e494a457
DTSTAMP:20260425T141524Z
SUMMARY:September NH4Israel Meeting
DESCRIPTION:Jewish Federation of New Hampshire\nCommunity Calendar\nhttps:/
 /jewishnh.org/community-calendar/september-nh4israel-meeting-1565709283\n\
 nJoe Spoerl on Islam's early Relationship with Judaism and Christianity\n\
 nDid Muhammad lead an ecumenical religious movement that included Jews and
  Christians? Or did he oppose Judaism and Christianity and seek to replace
  them with Islam? Contemporary historians of early Islam are seriously deb
 ating this question. Professor Joe Spoerl of Saint Anselm College will gui
 de you through this debate and talk about what it reveals about the state 
 of higher education today and the deleterious effects ...
DTSTART;TZID=America/New_York:20190904T183000
DTEND;TZID=America/New_York:20190904T200000
END:VEVENT
END:VCALENDAR
