BEGIN:VCALENDAR
PRODID:-//eluceo/ical//2.0/EN
VERSION:2.0
CALSCALE:GREGORIAN
BEGIN:VEVENT
UID:5960b121be9c09297529ae86764bde1f
DTSTAMP:20260422T161822Z
SUMMARY:SFY: Babka Make & Take
DESCRIPTION:Jewish Federation of New Hampshire\nCommunity Calendar\nhttps:/
 /jewishnh.org/community-calendar/sfy-babka-make-take\n\nLearn to make your
  own babka!\n\nJoin us at JFNH to braid and fill your own babka! Dough wil
 l be provided. We will make various fillings together and then assemble ou
 r babkas. Take it home to bake! \n\nWe'll also enjoy samplings of babkas 
 while we work\, including Dinah's homemade babka using the recipe we'll be
  following. \n\n$18.00/person. Registration and payment requested by Sept
 ember 14th. 
DTSTART;TZID=America/New_York:20230921T130000
DTEND;TZID=America/New_York:20230921T150000
END:VEVENT
END:VCALENDAR
