BEGIN:VCALENDAR
PRODID:-//eluceo/ical//2.0/EN
VERSION:2.0
CALSCALE:GREGORIAN
BEGIN:VEVENT
UID:a938d754f037bd04a646c30be89c8c98
DTSTAMP:20260425T212946Z
SUMMARY:CANCELLED - SFY:  Bake Hamantaschen with Chanchie
DESCRIPTION:Jewish Federation of New Hampshire\nCommunity Calendar\nhttps:/
 /jewishnh.org/community-calendar/sfy-bake-hamantaschen-with-chanchie\n\nTh
 is event has been cancelled.\n\n\nJoin Seniors Forever Young for a special
  Purim-themed baking event! \n\nMeet us at Chabad of New Hampshire in Manc
 hester on March 2nd at 1pm to bake your own Hamantaschen! All supplies pro
 vided. Light refreshments served (no lunch).\n\n$18/person | In-Person Onl
 y | Registration requested by February 23rd.
DTSTART;TZID=America/New_York:20230302T130000
DTEND;TZID=America/New_York:20230302T150000
END:VEVENT
END:VCALENDAR
