BEGIN:VCALENDAR
PRODID:-//eluceo/ical//2.0/EN
VERSION:2.0
CALSCALE:GREGORIAN
BEGIN:VEVENT
UID:a3da69ac86fc2b64394ec3688660179c
DTSTAMP:20260423T060112Z
SUMMARY:SFY Bingo & Pizza
DESCRIPTION:Jewish Federation of New Hampshire\nCommunity Calendar\nhttps:/
 /jewishnh.org/community-calendar/sfy-bingo-pizza\n\nCome try your luck! We
 'll play a few rounds of traditional Bingo just for fun and enjoy a lunch 
 of pizza and salad.\n\n1pm at the JFNH Community Room\, 273 South River Ro
 ad\, Unit #5\, Bedford\, NH\n\n$5/person | Registration Required | In-Pers
 on Only\nCall the office at 603-627-7679 to register.
DTSTART;TZID=America/New_York:20230209T130000
DTEND;TZID=America/New_York:20230209T143000
END:VEVENT
END:VCALENDAR
