BEGIN:VCALENDAR
PRODID:-//eluceo/ical//2.0/EN
VERSION:2.0
CALSCALE:GREGORIAN
BEGIN:VEVENT
UID:22a8159af2d89f33699bfa0f1f118c7b
DTSTAMP:20260423T090206Z
SUMMARY:SFY Chanukah Party!
DESCRIPTION:Jewish Federation of New Hampshire\nCommunity Calendar\nhttps:/
 /jewishnh.org/community-calendar/sfy-chanukah-party\n\nCome join us for a 
 CHANUKAH PARTY!!!! \n\nWe'll enjoy Latkes made by Chanchie\, with a full 
 toppings bar - ketchup\, sour cream\, apple sauce\, maple syrup...\n\nCome
  celebrate and have some fun!\n\nPlease call the JFNH office at 603-627-76
 79 to register.
DTSTART;TZID=America/New_York:20221222T120000
DTEND;TZID=America/New_York:20221222T140000
END:VEVENT
END:VCALENDAR
