BEGIN:VCALENDAR
PRODID:-//eluceo/ical//2.0/EN
VERSION:2.0
CALSCALE:GREGORIAN
BEGIN:VEVENT
UID:7771566e74097d6c5c826cd112477ec6
DTSTAMP:20260421T132524Z
SUMMARY:SFY Chanukah Party 2023
DESCRIPTION:Jewish Federation of New Hampshire\nCommunity Calendar\nhttps:/
 /jewishnh.org/community-calendar/sfy-chanukah-party-2023\n\nCome join us f
 or a CHANUKAH PARTY!!!! \n\nWe'll enjoy Latkes with a full toppings bar -
  ketchup\, sour cream\, apple sauce\, maple syrup...\n\nCome celebrate and
  have some fun!\n\nPlease call the JFNH office at 603-627-7679 to register
 .
DTSTART;TZID=America/New_York:20231212T110000
DTEND;TZID=America/New_York:20231212T130000
END:VEVENT
END:VCALENDAR
