BEGIN:VCALENDAR
PRODID:-//eluceo/ical//2.0/EN
VERSION:2.0
CALSCALE:GREGORIAN
BEGIN:VEVENT
UID:f41819c8ed0f9cff2f7a632b3569ca05
DTSTAMP:20260424T043633Z
SUMMARY:SFY Crafternoon: Ceramic Painting
DESCRIPTION:Jewish Federation of New Hampshire\nCommunity Calendar\nhttps:/
 /jewishnh.org/community-calendar/sfy-crafternoon-ceramic-painting\n\nCraft
 ernoon! Ceramic Painting\n\nJoin us at "You're Fired" in Bedford to paint 
 your own ceramic honey jar or other items!\n\nSnacks will be provided.\n\n
 You're Fired Bedford Studio - 25 S. River Rd\, Bedford\n\n$18/person (non 
 refundable) - Registration and payment required by September 14th
DTSTART;TZID=America/New_York:20220921T113000
DTEND;TZID=America/New_York:20220921T123000
END:VEVENT
END:VCALENDAR
