BEGIN:VCALENDAR
PRODID:-//eluceo/ical//2.0/EN
VERSION:2.0
CALSCALE:GREGORIAN
BEGIN:VEVENT
UID:676cde462828f12ffb259f70d071bad2
DTSTAMP:20260422T060816Z
SUMMARY:SFY: Crafternoon - Egg Carton Wind Chimes
DESCRIPTION:Jewish Federation of New Hampshire\nCommunity Calendar\nhttps:/
 /jewishnh.org/community-calendar/sfy-crafternoon-egg-carton-wind-chimes\n\
 nSeniors Forever Young Crafternoon - Upcycled Egg Carton Wind Chimes\n\nDi
 nah will show how to design your own wind chime using recycled egg cartons
 \, paint\, pipe cleaners and bells. Craft supplies\, coffee\, tea\, fruit
  and desserts will be provided.\n\nThis event will be in person at the JF
 NH office in Bedford. Masks are encouraged.\n\nPlease call the office at 6
 03-627-7679\, mail your registration to Jewish Federation of New Hampshire
 \, 273 South River Road\, Unit 5\, Bedford\, NH 03110\; or email Din...
DTSTART;TZID=America/New_York:20220628T140000
DTEND;TZID=America/New_York:20220628T153000
END:VEVENT
END:VCALENDAR
