BEGIN:VCALENDAR
PRODID:-//eluceo/ical//2.0/EN
VERSION:2.0
CALSCALE:GREGORIAN
BEGIN:VEVENT
UID:a7fa4b41754cf1d1d88615b5c313f835
DTSTAMP:20260422T050541Z
SUMMARY:SFY: Crafternoon - Magnetic Picture Frames
DESCRIPTION:Jewish Federation of New Hampshire\nCommunity Calendar\nhttps:/
 /jewishnh.org/community-calendar/sfy-crafternoon-magnetic-picture-frames\n
 \nSeniors Forever Young Crafternoon - Magnetic Picture Frames\n\nDinah wil
 l show how to design your own magnetic picture frame with a variety of cra
 ft materials. Craft supplies\, coffee\, tea and desserts will be provided.
 \n\nThis event will be in person at the JFNH office in Bedford. Masks are 
 encouraged.\n\nPlease call the office at 603-627-7679\, mail your registra
 tion to Jewish Federation of New Hampshire\, 273 South River Road\, Unit 5
 \, Bedford\, NH 03110\; or email Dinah Berch to register for this...
DTSTART;TZID=America/New_York:20220217T140000
DTEND;TZID=America/New_York:20220217T160000
END:VEVENT
END:VCALENDAR
