BEGIN:VCALENDAR
PRODID:-//eluceo/ical//2.0/EN
VERSION:2.0
CALSCALE:GREGORIAN
BEGIN:VEVENT
UID:9912e7cc706d3b1b42a533793f41fbcb
DTSTAMP:20260422T122346Z
SUMMARY:SFY Field Trip! Discover Squam Cruise
DESCRIPTION:Jewish Federation of New Hampshire\nCommunity Calendar\nhttps:/
 /jewishnh.org/community-calendar/sfy-field-trip-discover-squam-cruise\n\nF
 IELD TRIP! Discover Squam Cruise\n\nJoin us for a 90min Pontoon Boat ride 
 through Squam Lake! Learn about the natural history of the lake\, see loon
 s & eagles\, and view locations where the movie On Golden Pond was filmed.
  Lunch at Common Man after the cruise (not included in cost of trip)\n\nVa
 n leaves JFNH office at 9:30am\; boat departs at 11:00am.\n\n$30/person (n
 on refundable) - Registration and payment required by August 4th\n\nFor mo
 re information about this cruise visit Squam Lakes Natu...
DTSTART;TZID=America/New_York:20220811T091500
DTEND;TZID=America/New_York:20220811T140000
END:VEVENT
END:VCALENDAR
