BEGIN:VCALENDAR
PRODID:-//eluceo/ical//2.0/EN
VERSION:2.0
CALSCALE:GREGORIAN
BEGIN:VEVENT
UID:24bf108d4df7cafb2cfc6dbe4426a931
DTSTAMP:20260422T170509Z
SUMMARY:SFY: Little Women at the Palace Theatre
DESCRIPTION:Jewish Federation of New Hampshire\nCommunity Calendar\nhttps:/
 /jewishnh.org/community-calendar/sfy-little-women-at-the-palace-theatre\n\
 nJoin us for a production of "Little Women: The Broadway Musical". \n\n2p
 m\, The Palace Theatre\, 80 Hanover Street\, Manchester\, NH\n\n$30/person
  | Registration required by February 12th\nTransportation Not Included\nOp
 tional Dinner After the Show Not Included\n\nPlease call the office at 603
 -627-7679 to register.
DTSTART;TZID=America/New_York:20230312T140000
DTEND;TZID=America/New_York:20230312T170000
END:VEVENT
END:VCALENDAR
