BEGIN:VCALENDAR
PRODID:-//eluceo/ical//2.0/EN
VERSION:2.0
CALSCALE:GREGORIAN
BEGIN:VEVENT
UID:26de391604e90d90d59b18cf30f381eb
DTSTAMP:20260422T131825Z
SUMMARY:SFY: Lunch at Windows on West Street
DESCRIPTION:Jewish Federation of New Hampshire\nCommunity Calendar\nhttps:/
 /jewishnh.org/community-calendar/sfy-lunch-at-windows-on-west-street-2024\
 n\nJoin us for lunch at a student-run restaurant at Milford High School\, 
 100 West Street\, Milford\, NH.\n\nTransportation not provided. \nPayment
  taken at restaurant (check\, cash or credit cards accepted)\; Each person
  is responsible for their own check.
DTSTART;TZID=America/New_York:20240418T111500
DTEND;TZID=America/New_York:20240418T123000
END:VEVENT
END:VCALENDAR
