BEGIN:VCALENDAR
PRODID:-//eluceo/ical//2.0/EN
VERSION:2.0
CALSCALE:GREGORIAN
BEGIN:VEVENT
UID:0f7907c93e6a3081371fc4e78ea45386
DTSTAMP:20260422T140125Z
SUMMARY:SFY Lunch & Learn: "Ways to Maximize Your Health"
DESCRIPTION:Jewish Federation of New Hampshire\nCommunity Calendar\nhttps:/
 /jewishnh.org/community-calendar/sfy-lunch-learn\n\nRescheduled to 2/2/23 
 due to the weather!\n\nThe Seniors Forever Young "Lunch & Learn" series c
 ontinues in 2023 with a guest lecture by Temple Israel Portsmouth member D
 r. Karl Singer on "Ways to Maximize Your Health".\n\n12:00pm at the Jewish
  Federation of New Hampshire in Bedford.\nRegistration Required For This E
 vent. $8/person (for in-person attendees only). Please call the office to
  register.\nA bagel lunch will be provided beginning at noon\; Dr. Singer 
 will join us on Zoom at roughly ...
DTSTART;TZID=America/New_York:20230202T120000
DTEND;TZID=America/New_York:20230202T140000
END:VEVENT
END:VCALENDAR
