BEGIN:VCALENDAR
PRODID:-//eluceo/ical//2.0/EN
VERSION:2.0
CALSCALE:GREGORIAN
BEGIN:VEVENT
UID:c587d9c3d06f02abe5bd0b6fd27ede0e
DTSTAMP:20260422T050719Z
SUMMARY:SFY: Lunch & Learn "Antisemitism in New Hampshire"
DESCRIPTION:Jewish Federation of New Hampshire\nCommunity Calendar\nhttps:/
 /jewishnh.org/community-calendar/sfy-lunch-learn-antisemitism-in-new-hamps
 hire\n\nSeniors Forever Young presents a Lunch & Learn on "Antisemitism in
  New Hampshire"\nJoin us for a Lunch & Learn with NH State Representative 
 Paul Berch on recent Antisemitic activities and legislature. Pizza and sal
 ad lunch will be provided for those attending in-person. Program supporte
 d by JFNH's Antisemitism and Diversity Committee.\n\n$8/person (non refund
 able) - pay by July 7th. \nThis program will be offered hybrid\; please s
 pecify when registering if you will need the Zoom link. Thank y...
DTSTART;TZID=America/New_York:20220714T110000
DTEND;TZID=America/New_York:20220714T130000
END:VEVENT
END:VCALENDAR
