BEGIN:VCALENDAR
PRODID:-//eluceo/ical//2.0/EN
VERSION:2.0
CALSCALE:GREGORIAN
BEGIN:VEVENT
UID:d705ce85b5b318e911a61214d1d61a92
DTSTAMP:20260424T032230Z
SUMMARY:SFY: Lunch & Learn "Israeli Naval History"
DESCRIPTION:Jewish Federation of New Hampshire\nCommunity Calendar\nhttps:/
 /jewishnh.org/community-calendar/sfy-lunch-learn-israeli-naval-history\n\n
 Seniors Forever Young presents a Lunch & Learn on "Israeli Naval History"
 \n\nJoin us for a Lunch & Learn with JFNH Shaliach Ra'anan de Haas on Isra
 eli Naval History. Salad and Sandwich Lunch will be provided. This program
  will be offered in-person only. Program supported by JFNH's Spotlight on
  Israel.\n\n$15/person (non refundable) - pay by July 21st.
DTSTART;TZID=America/New_York:20220728T110000
DTEND;TZID=America/New_York:20220728T130000
END:VEVENT
END:VCALENDAR
