BEGIN:VCALENDAR
PRODID:-//eluceo/ical//2.0/EN
VERSION:2.0
CALSCALE:GREGORIAN
BEGIN:VEVENT
UID:98c6d66d55eca6df54ee60024a11aa2d
DTSTAMP:20260422T060928Z
SUMMARY:SFY Lunch & Learn: "Jewish Cemeteries of New Hampshire"
DESCRIPTION:Jewish Federation of New Hampshire\nCommunity Calendar\nhttps:/
 /jewishnh.org/community-calendar/sfy-lunch-learn-ways-to-maximize-your-hea
 lth\n\nOctober 19th: Lunch & Learn\n\n"Jewish Cemeteries of New Hampshire"
  presentation by Rabbi Joshua Segal\n\nBagel lunch provided.\n\n12:30PM\, 
 JFNH Community Room - 273 S. River Rd #5\, Bedford\n\n$8/person | Registra
 tion requested | Zoom Link Available Upon Request
DTSTART;TZID=America/New_York:20231019T123000
DTEND;TZID=America/New_York:20231019T143000
END:VEVENT
END:VCALENDAR
