BEGIN:VCALENDAR
PRODID:-//eluceo/ical//2.0/EN
VERSION:2.0
CALSCALE:GREGORIAN
BEGIN:VEVENT
UID:9377d23ab74e56228de6b36027cf5498
DTSTAMP:20260425T104148Z
SUMMARY:SFY Movie Day: "Keeping the Faith"
DESCRIPTION:Jewish Federation of New Hampshire\nCommunity Calendar\nhttps:/
 /jewishnh.org/community-calendar/sfy-movie-day\n\nMovie Day! "Keeping the 
 Faith" \n\nTwo friends\, a priest and a rabbi\, fall in love with the sam
 e woman they knew in their youth\, but the religious position of both men 
 denies them romance. Starring Edward Norton\, Ben Stiller and Jenna Elfman
 . (2000)\n\n1PM JFNH Community Room - 273 S. River Rd #5\, Bedford\n\nNo C
 ost | Popcorn will be provided | Registration required by November 29th
DTSTART;TZID=America/New_York:20221201T130000
DTEND;TZID=America/New_York:20221201T150000
END:VEVENT
END:VCALENDAR
