BEGIN:VCALENDAR
PRODID:-//eluceo/ical//2.0/EN
VERSION:2.0
CALSCALE:GREGORIAN
BEGIN:VEVENT
UID:06e5ada6b50eb36b5295ed25dc721b00
DTSTAMP:20260423T084738Z
SUMMARY:SFY Movie Day! "Downton Abbey"
DESCRIPTION:Jewish Federation of New Hampshire\nCommunity Calendar\nhttps:/
 /jewishnh.org/community-calendar/sfy-movie-day-downton-abbey\n\nMovie Day!
  "Downton Abbey" (#1)\n\nThe continuing story of the Crawley family\, weal
 thy owners of a large estate in the English countryside in the early twent
 ieth century. (2019)\n\n1PM JFNH Community Room - 273 S. River Rd #5\, Bed
 ford\n\nNo Cost | Popcorn will be provided | Registration required by Augu
 st 18th
DTSTART;TZID=America/New_York:20220825T130000
DTEND;TZID=America/New_York:20220825T150000
END:VEVENT
END:VCALENDAR
