BEGIN:VCALENDAR
PRODID:-//eluceo/ical//2.0/EN
VERSION:2.0
CALSCALE:GREGORIAN
BEGIN:VEVENT
UID:b766739a3e534d1361963d2594f0618c
DTSTAMP:20260422T112221Z
SUMMARY:SFY Movie Day! "Downton Abbey: A New Era"
DESCRIPTION:Jewish Federation of New Hampshire\nCommunity Calendar\nhttps:/
 /jewishnh.org/community-calendar/sfy-movie-day-downton-abbey-a-new-era\n\n
 Movie Day! "Downton Abbey: A New Era" (#2)\n\nThe Crawley family goes on a
  grand journey to the South of France to uncover the mystery of the dowage
 r countess's newly inherited villa. (2022)\n\n1PM JFNH Community Room - 27
 3 S. River Rd #5\, Bedford\n\nNo Cost | Popcorn will be provided | Registr
 ation required by September 1st
DTSTART;TZID=America/New_York:20220908T130000
DTEND;TZID=America/New_York:20220908T150000
END:VEVENT
END:VCALENDAR
