BEGIN:VCALENDAR
PRODID:-//eluceo/ical//2.0/EN
VERSION:2.0
CALSCALE:GREGORIAN
BEGIN:VEVENT
UID:f06005c6cba15272612c80041cb3ca74
DTSTAMP:20260422T044611Z
SUMMARY:SFY presents "Seniors in the Sukkah"
DESCRIPTION:Jewish Federation of New Hampshire\nCommunity Calendar\nhttps:/
 /jewishnh.org/community-calendar/sfy-presents-seniors-in-the-sukkah\n\nSen
 iors in the Sukkah\nThursday\, October 13\, 12:00pm\n\nPlease join JFNH's 
 "Seniors Forever Young" in the Shapiro House sukkah at Strawbery Banke Mus
 eum in Portsmouth for a special holiday luncheon!\n\nShapiro House Sukkah\
 nStrawbery Banke Museum\n14 Hancock Street\nPortsmouth\, NH 03801\n\nRegis
 tration required by October 6\nCall 603-627-7679 to pay by credit card or 
 mail payment to JFNH\, Attention: SFY\, 273 South River Road Unit #5\, Bed
 ford\, NH 03110\n\n$18/person (non-refundable). \nThis e...
DTSTART;TZID=America/New_York:20221013T120000
DTEND;TZID=America/New_York:20221013T140000
END:VEVENT
END:VCALENDAR
