BEGIN:VCALENDAR
PRODID:-//eluceo/ical//2.0/EN
VERSION:2.0
CALSCALE:GREGORIAN
BEGIN:VEVENT
UID:a2f3c46d0e69be8044f0e11abcff3110
DTSTAMP:20260423T005421Z
SUMMARY:CANCELLED - SFY presents "Seniors in the Sukkah"
DESCRIPTION:Jewish Federation of New Hampshire\nCommunity Calendar\nhttps:/
 /jewishnh.org/community-calendar/sfy-presents-seniors-in-the-sukkah-2023\n
 \nCANCELLED\n\nSeniors in the Sukkah\nWednesday\, October 4\, 12:00pm\n\nP
 lease join JFNH's "Seniors Forever Young" in the Shapiro House sukkah at S
 trawbery Banke Museum in Portsmouth for a special Sukkot holiday luncheon!
 \n\nShapiro House Sukkah\nStrawbery Banke Museum\n14 Hancock Street\nPorts
 mouth\, NH 03801\n\nRegistration required by September 29\nCall 603-627-76
 79 to pay by credit card or mail payment to JFNH\, Attention: SFY\, 273 So
 uth River Road Unit #5\, Bedford\, NH 03110\n\n$18/person
DTSTART;TZID=America/New_York:20231004T000000
DTEND;TZID=America/New_York:20231004T235959
END:VEVENT
END:VCALENDAR
