BEGIN:VCALENDAR
PRODID:-//eluceo/ical//2.0/EN
VERSION:2.0
CALSCALE:GREGORIAN
BEGIN:VEVENT
UID:bdc0698a2c6a210fce15424713242730
DTSTAMP:20260424T210420Z
SUMMARY:Shabbat Alive!
DESCRIPTION:Jewish Federation of New Hampshire\nCommunity Calendar\nhttps:/
 /jewishnh.org/community-calendar/shabbat-alive-1565714466\n\nExperience an
  upbeat Shabbat evening service guided by songleaders and accompanied by s
 everal of our musicians playing guitar\, percussion\, keyboard\, and clari
 net. We’ll learn some new melodies\, and some brief explanations will he
 lp unlock the joy and meaning of the service to begin Shabbat.\n\nThe serv
 ice will be 45 minutes to an hour.\n\nFor more information please go here:
  https://www.tbanashua.org/shabbat-alive
DTSTART;TZID=America/New_York:20190906T183000
DTEND;TZID=America/New_York:20190906T193000
END:VEVENT
END:VCALENDAR
