BEGIN:VCALENDAR
PRODID:-//eluceo/ical//2.0/EN
VERSION:2.0
CALSCALE:GREGORIAN
BEGIN:VEVENT
UID:f7b383accb458e508e40b2f10b1486de
DTSTAMP:20260422T235743Z
SUMMARY:Temple Beth Abraham - Shabbat Alive!
DESCRIPTION:Jewish Federation of New Hampshire\nCommunity Calendar\nhttps:/
 /jewishnh.org/community-calendar/shabbat-alive-1574875592\n\nExperience an
  upbeat Shabbat evening service guided by songleaders and accompanied by s
 everal of our musicians playing guitar\, percussion\, keyboard\, and clari
 net. We’ll learn some new melodies\, and some brief explanations will he
 lp unlock the joy and meaning of the service to begin Shabbat.\n\nFor more
  information and for some new tunes\, please click here: https://www.tbana
 shua.org/shabbat-alive
DTSTART;TZID=America/New_York:20191206T183000
DTEND;TZID=America/New_York:20191206T191500
END:VEVENT
END:VCALENDAR
