BEGIN:VCALENDAR
PRODID:-//eluceo/ical//2.0/EN
VERSION:2.0
CALSCALE:GREGORIAN
BEGIN:VEVENT
UID:e46a785e1d5ba27beb5421a7d0f131f5
DTSTAMP:20260423T091233Z
SUMMARY:Temple Beth Abraham Shabbat Alive!
DESCRIPTION:Jewish Federation of New Hampshire\nCommunity Calendar\nhttps:/
 /jewishnh.org/community-calendar/shabbat-alive-1576260381\n\nExperience an
  upbeat Shabbat evening service guided by songleaders and accompanied by s
 everal of our musicians playing guitar\, percussion\, keyboard\, and clari
 net. We’ll learn some new melodies\, and some brief explanations will he
 lp unlock the joy and meaning of the service to begin Shabbat.\n\nFor more
  information and for some new tunes\, please go here: https://www.tbanashu
 a.org/shabbat-alive
DTSTART;TZID=America/New_York:20200103T183000
DTEND;TZID=America/New_York:20200103T191500
END:VEVENT
END:VCALENDAR
