BEGIN:VCALENDAR
PRODID:-//eluceo/ical//2.0/EN
VERSION:2.0
CALSCALE:GREGORIAN
BEGIN:VEVENT
UID:29355a8a00216db5a7a5da3d12671e60
DTSTAMP:20260423T040720Z
SUMMARY:Shabbat Alive!
DESCRIPTION:Jewish Federation of New Hampshire\nCommunity Calendar\nhttps:/
 /jewishnh.org/community-calendar/shabbat-alive-1579630822\n\nExperience an
  upbeat Shabbat evening service guided by songleaders and accompanied by s
 everal of our musicians playing guitar\, percussion\, keyboard\, and clari
 net. We’ll learn some new melodies\, and some brief explanations will he
 lp unlock the joy and meaning of the service to begin Shabbat.For more inf
 ormation and for some new tunes\, please click here: https://www.tbanashua
 .org/shabbat-alive
DTSTART;TZID=America/New_York:20200207T183000
DTEND;TZID=America/New_York:20200207T191500
END:VEVENT
END:VCALENDAR
