BEGIN:VCALENDAR
PRODID:-//eluceo/ical//2.0/EN
VERSION:2.0
CALSCALE:GREGORIAN
BEGIN:VEVENT
UID:19876016a5d651f2e0718f60a3a504b4
DTSTAMP:20260424T051945Z
SUMMARY:Shabbat Alive!
DESCRIPTION:Jewish Federation of New Hampshire\nCommunity Calendar\nhttps:/
 /jewishnh.org/community-calendar/shabbat-alive-1581444950\n\nExperience an
  upbeat Shabbat evening service guided by songleaders and accompanied by s
 everal of our musicians playing guitar\, percussion\, keyboard\, and clari
 net. We’ll learn some new melodies\, and some brief explanations will he
 lp unlock the joy and meaning of the service to begin Shabbat.For more inf
 ormation and for some new tunes\, please go here: https://www.tbanashua.or
 g/shabbat-alive
DTSTART;TZID=America/New_York:20200306T183000
DTEND;TZID=America/New_York:20200306T193000
END:VEVENT
END:VCALENDAR
