BEGIN:VCALENDAR
PRODID:-//eluceo/ical//2.0/EN
VERSION:2.0
CALSCALE:GREGORIAN
BEGIN:VEVENT
UID:58eb987bade8771a7bcaa23a25111661
DTSTAMP:20260422T033243Z
SUMMARY:Shabbat Alive at TBA
DESCRIPTION:Jewish Federation of New Hampshire\nCommunity Calendar\nhttps:/
 /jewishnh.org/community-calendar/shabbat-alive-at-tba-1662561341\n\nWelcom
 e Shabbat with an upbeat musical celebration\, guided by song leaders from
  the congregation and accompanied by several of our musicians playing guit
 ar\, percussion\, keyboard\, and clarinet. For more details and additional
  dates: https://tbanashua.shulcloud.com/event/shabbat-alive1.html
DTSTART;TZID=America/New_York:20220916T180000
DTEND;TZID=America/New_York:20220916T193000
END:VEVENT
END:VCALENDAR
