BEGIN:VCALENDAR
PRODID:-//eluceo/ical//2.0/EN
VERSION:2.0
CALSCALE:GREGORIAN
BEGIN:VEVENT
UID:cd7c8dfd2e9602552029ec098af81fdf
DTSTAMP:20260422T111147Z
SUMMARY:Shabbat and Chanukah Candle Lighting and Confirmation
DESCRIPTION:Jewish Federation of New Hampshire\nCommunity Calendar\nhttps:/
 /jewishnh.org/community-calendar/shabbat-and-chanukah-candle-lighting-and-
 confirmation-1636469681\n\nFriday\, December 3 at 7:15PM Etz Hayim will ho
 st a Family Shabbat\, 6th night of Chanukah and confirmations for Shayna A
 dams and Emma Plater. Please bring your menorahs as we all light the candl
 es together\, celebrate Shabbat with our families and honor the milestone 
 of confirmation for two members of our community. This service will be bot
 h live and via Zoom. For a Zoom link\, lease contact office@etzhayim.org.
DTSTART;TZID=America/New_York:20211203T191500
DTEND;TZID=America/New_York:20211203T204000
END:VEVENT
END:VCALENDAR
