BEGIN:VCALENDAR
PRODID:-//eluceo/ical//2.0/EN
VERSION:2.0
CALSCALE:GREGORIAN
BEGIN:VEVENT
UID:96ed057c7c363c6ba08cda25b1a5aa51
DTSTAMP:20260422T202825Z
SUMMARY:Betenu Shabbat Evening Services
DESCRIPTION:Jewish Federation of New Hampshire\nCommunity Calendar\nhttps:/
 /jewishnh.org/community-calendar/shabbat-evening-services-1654876513\n\nTh
 is is a hybrid event held at Congregation Betenu with a virtual option on 
 Zoom.
DTSTART;TZID=America/New_York:20220805T193000
DTEND;TZID=America/New_York:20220805T204500
END:VEVENT
END:VCALENDAR
