BEGIN:VCALENDAR
PRODID:-//eluceo/ical//2.0/EN
VERSION:2.0
CALSCALE:GREGORIAN
BEGIN:VEVENT
UID:d922f297d2aacf7f9807dc45588df0f3
DTSTAMP:20260423T002854Z
SUMMARY:POSTPONED: Temple Israel Portsmouth Shabbat Happy Hour
DESCRIPTION:Jewish Federation of New Hampshire\nCommunity Calendar\nhttps:/
 /jewishnh.org/community-calendar/shabbat-happy-hour-1649441022\n\nPlease n
 ote\, this event has been POSTPONED due to changes in COVID community tran
 smission.\n\nJoin us in the Temple Israel Portsmouth social hall for a fes
 tive gathering with potluck appetizers before the Kabbalat Shabbat service
  begins. Bring a dish to share-- see below for potluck guidelines.\n\nAll 
 food brought to the event must be vegetarian\, dairy or pareve. Pareve (ne
 utral) refers to foods that are neither meat nor dairy. This includes all 
 fruits\, vegetables\, grains\, eggs\, and fish whic...
DTSTART;TZID=America/New_York:20220520T174500
DTEND;TZID=America/New_York:20220520T183000
END:VEVENT
END:VCALENDAR
