BEGIN:VCALENDAR
PRODID:-//eluceo/ical//2.0/EN
VERSION:2.0
CALSCALE:GREGORIAN
BEGIN:VEVENT
UID:da8b4f441775f82209b9e8f3867680c4
DTSTAMP:20260425T021115Z
SUMMARY:Shabbat in the Park
DESCRIPTION:Jewish Federation of New Hampshire\nCommunity Calendar\nhttps:/
 /jewishnh.org/community-calendar/shabbat-in-the-park\n\nJoin other familie
 s with young children for a family friendly Shabbat Eve experience.\n\nFri
 day\, June 18th ~ 5PM\n\nMerrimack\, NH\n\n* Bring your own picnic dinner
  \n* Musical Shabbat service\n* Craft and dessert\n\nThis program is free
 . Location in will be emailed with your registration.
DTSTART;TZID=America/New_York:20210618T170000
DTEND;TZID=America/New_York:20210618T190000
END:VEVENT
END:VCALENDAR
